BEGIN:VCALENDAR
PRODID:-//http://statistik.d-u-v.org//PHP ultracalendar//EN
VERSION:2.0
METHOD:PUBLISH
BEGIN:VEVENT
DTSTAMP:20260423T065146
CREATED:20241231T111059
UID:1776927106.0.51993800-114079@statistik.d-u-v.org
SUMMARY:Beast of Burden - Arkansas
DESCRIPTION: Beast of Burden - Arkansas\n
  \n
  
DTSTART:20241102T060000
DTEND:20241103T235900
LOCATION:Fayetteville, AR\, USA
URL:https://runsignup.com/Race/AR/Fayetteville/BeastofBurden
CATEGORIES:Ultramarathon
CONTACT:
CLASS:PUBLIC
PRIORITY:5
TRANSP:OPAQUE
END:VEVENT
END:VCALENDAR
