BEGIN:VCALENDAR
PRODID:-//http://statistik.d-u-v.org//PHP ultracalendar//EN
VERSION:2.0
METHOD:PUBLISH
BEGIN:VEVENT
DTSTAMP:20260423T043624
CREATED:20241226T061208
UID:1776918984.0.54173900-113942@statistik.d-u-v.org
SUMMARY:FSR 100
DESCRIPTION: FSR 100\n
  \n
  
DTSTART:20241026T000000
DTEND:20241028T235900
LOCATION:Copperhill, TN\, USA
URL:https://www.project42running.com/fsr-100
CATEGORIES:Ultramarathon
CONTACT:
CLASS:PUBLIC
PRIORITY:5
TRANSP:OPAQUE
END:VEVENT
END:VCALENDAR
