BEGIN:VCALENDAR
PRODID:-//http://statistik.d-u-v.org//PHP ultracalendar//EN
VERSION:2.0
METHOD:PUBLISH
BEGIN:VEVENT
DTSTAMP:20260423T020637
CREATED:20241226T013401
UID:1776909997.0.28126800-113931@statistik.d-u-v.org
SUMMARY:Fancy Nonsense 50 km Race
DESCRIPTION: Fancy Nonsense 50 km Race\n
  \n
  ally[at]cussingrunner.com
DTSTART:20251025T000000
DTEND:00000000T235900
LOCATION:Willow Springs, IL\, USA
URL:https://cussingrunner.com/
CATEGORIES:Ultramarathon
CONTACT:
CLASS:PUBLIC
PRIORITY:5
TRANSP:OPAQUE
END:VEVENT
END:VCALENDAR
