BEGIN:VCALENDAR
PRODID:-//http://statistik.d-u-v.org//PHP ultracalendar//EN
VERSION:2.0
METHOD:PUBLISH
BEGIN:VEVENT
DTSTAMP:20260422T194011
CREATED:20241210T172457
UID:1776886811.0.43583100-113718@statistik.d-u-v.org
SUMMARY:Uppsala 6-timmars
DESCRIPTION: Uppsala 6-timmars\n
  Jesper Schotte\n
  ultrauppsala[at]gmail.com
DTSTART:20250510T093000
DTEND:00000000T235900
LOCATION:Uppsala\, SWE
URL:https://ultrauppsala.se/home/uppsala-6-timmars/
CATEGORIES:Ultramarathon
CONTACT:Jesper Schotte
CLASS:PUBLIC
PRIORITY:5
TRANSP:OPAQUE
END:VEVENT
END:VCALENDAR
