BEGIN:VCALENDAR
PRODID:-//http://statistik.d-u-v.org//PHP ultracalendar//EN
VERSION:2.0
METHOD:PUBLISH
BEGIN:VEVENT
DTSTAMP:20260420T044143
CREATED:20241213T061758
UID:1776660103.0.39571000-113658@statistik.d-u-v.org
SUMMARY:The Ultra Bird 12 Hour Trail Race
DESCRIPTION: The Ultra Bird 12 Hour Trail Race\n
  \n
  egressendurance[at]gmail.com
DTSTART:20251101T080000
DTEND:00000000T235900
LOCATION:West Olive, MI\, USA
URL:https://ultrasignup.com/register.aspx?did=122227
CATEGORIES:Ultramarathon
CONTACT:
CLASS:PUBLIC
PRIORITY:5
TRANSP:OPAQUE
END:VEVENT
END:VCALENDAR
