BEGIN:VCALENDAR
PRODID:-//http://statistik.d-u-v.org//PHP ultracalendar//EN
VERSION:2.0
METHOD:PUBLISH
BEGIN:VEVENT
DTSTAMP:20260419T195311
CREATED:20241213T013607
UID:1776628391.0.37399800-113650@statistik.d-u-v.org
SUMMARY:Man Against Horse 50 Mile Race
DESCRIPTION: Man Against Horse 50 Mile Race\n
  Ron Barrett, Ned Leigh\n
  
DTSTART:20241019T063000
DTEND:00000000T235900
LOCATION:Prescott, AZ\, USA
URL:https://managainsthorse.com/
CATEGORIES:Ultramarathon
CONTACT:Ron Barrett, Ned Leigh
CLASS:PUBLIC
PRIORITY:5
TRANSP:OPAQUE
END:VEVENT
END:VCALENDAR
