BEGIN:VCALENDAR
PRODID:-//http://statistik.d-u-v.org//PHP ultracalendar//EN
VERSION:2.0
METHOD:PUBLISH
BEGIN:VEVENT
DTSTAMP:20260424T172626
CREATED:20241212T020650
UID:1777051586.0.50393800-113618@statistik.d-u-v.org
SUMMARY:Yippee-Ki-Yay 50 km Race
DESCRIPTION: Yippee-Ki-Yay 50 km Race\n
  \n
  info[at]happytrailzrunning.com
DTSTART:20241019T000000
DTEND:00000000T235900
LOCATION:Council Bluffs, IA\, USA
URL:https://yippeekiyay.itsyourrace.com/event.aspx?id=13186
CATEGORIES:Ultramarathon
CONTACT:
CLASS:PUBLIC
PRIORITY:5
TRANSP:OPAQUE
END:VEVENT
END:VCALENDAR
