BEGIN:VCALENDAR
PRODID:-//http://statistik.d-u-v.org//PHP ultracalendar//EN
VERSION:2.0
METHOD:PUBLISH
BEGIN:VEVENT
DTSTAMP:20260423T012107
CREATED:20241209T113512
UID:1776907267.0.55943700-113572@statistik.d-u-v.org
SUMMARY:Piedmont 8 Hour Run
DESCRIPTION: Piedmont 8 Hour Run\n
  Race Director Dan Pulskamp\n
  dpulskamp[at]hotmail.com
DTSTART:20241019T083000
DTEND:00000000T235900
LOCATION:Powhatan, VA\, USA
URL:https://virginiaadventures.com/race/piedmont-8-hour-run/
CATEGORIES:Ultramarathon
CONTACT:Race Director Dan Pulskamp
CLASS:PUBLIC
PRIORITY:5
TRANSP:OPAQUE
END:VEVENT
END:VCALENDAR
