BEGIN:VCALENDAR
PRODID:-//http://statistik.d-u-v.org//PHP ultracalendar//EN
VERSION:2.0
METHOD:PUBLISH
BEGIN:VEVENT
DTSTAMP:20260419T220836
CREATED:20241209T113019
UID:1776636516.0.88693800-113571@statistik.d-u-v.org
SUMMARY:Uwharrie 100 Mile Trail Run
DESCRIPTION: Uwharrie 100 Mile Trail Run\n
  Race Director Daniel Paige\n
  uwharrie100milerun[at]gmail.com
DTSTART:20241019T060000
DTEND:20241020T180000
LOCATION:Troy, NC\, USA
URL:http://www.uwharrie100.com/
CATEGORIES:Ultramarathon
CONTACT:Race Director Daniel Paige
CLASS:PUBLIC
PRIORITY:5
TRANSP:OPAQUE
END:VEVENT
END:VCALENDAR
