BEGIN:VCALENDAR
PRODID:-//http://statistik.d-u-v.org//PHP ultracalendar//EN
VERSION:2.0
METHOD:PUBLISH
BEGIN:VEVENT
DTSTAMP:20260423T043522
CREATED:20241209T113924
UID:1776918922.0.16268500-113563@statistik.d-u-v.org
SUMMARY:Pumpkin Holler 100 Mile Race
DESCRIPTION: Pumpkin Holler 100 Mile Race\n
  \n
  info[at]ph100.run
DTSTART:20241019T080000
DTEND:20241020T140000
LOCATION:Tahlequah, OK\, USA
URL:https://www.ph100.run/
CATEGORIES:Ultramarathon
CONTACT:
CLASS:PUBLIC
PRIORITY:5
TRANSP:OPAQUE
END:VEVENT
END:VCALENDAR
