BEGIN:VCALENDAR
PRODID:-//http://statistik.d-u-v.org//PHP ultracalendar//EN
VERSION:2.0
METHOD:PUBLISH
BEGIN:VEVENT
DTSTAMP:20260421T151529
CREATED:20241209T220400
UID:1776784529.0.44128000-113547@statistik.d-u-v.org
SUMMARY:Bielersee XXL 160km
DESCRIPTION: Bielersee XXL 160km\n
  Christoph Allemann\n
  info[at]ultrabielersee.ch
DTSTART:20250509T120000
DTEND:20250510T180000
LOCATION:Nidau\, SUI
URL:http://www.ultrabielersee.ch
CATEGORIES:Ultramarathon
CONTACT:Christoph Allemann
CLASS:PUBLIC
PRIORITY:5
TRANSP:OPAQUE
END:VEVENT
END:VCALENDAR
