BEGIN:VCALENDAR
PRODID:-//http://statistik.d-u-v.org//PHP ultracalendar//EN
VERSION:2.0
METHOD:PUBLISH
BEGIN:VEVENT
DTSTAMP:20260419T220759
CREATED:20241209T142710
UID:1776636479.0.52815200-113540@statistik.d-u-v.org
SUMMARY:Mühlenweg Ultra
DESCRIPTION: Mühlenweg Ultra\n
  Gerd Junker\n
  gerd.junker[at]osnanet.de
DTSTART:20250830T074500
DTEND:20250831T174500
LOCATION:Wallenhorst\, GER
URL:https://my.raceresult.com/319805/
CATEGORIES:Ultramarathon
CONTACT:Gerd Junker
CLASS:PUBLIC
PRIORITY:5
TRANSP:OPAQUE
END:VEVENT
END:VCALENDAR
