BEGIN:VCALENDAR
PRODID:-//http://statistik.d-u-v.org//PHP ultracalendar//EN
VERSION:2.0
METHOD:PUBLISH
BEGIN:VEVENT
DTSTAMP:20260423T072131
CREATED:20241209T013752
UID:1776928891.0.53896700-113524@statistik.d-u-v.org
SUMMARY:New Years One Day 6 Hour Run
DESCRIPTION: New Years One Day 6 Hour Run\n
  \n
  wendell[at]coastaltrailruns.com
DTSTART:20241231T180000
DTEND:00000000T235900
LOCATION:San Francisco, CA\, USA
URL:https://runsignup.com/Race/CA/SanJose/NewYearsOneDay
CATEGORIES:Ultramarathon
CONTACT:
CLASS:PUBLIC
PRIORITY:5
TRANSP:OPAQUE
END:VEVENT
END:VCALENDAR
