BEGIN:VCALENDAR
PRODID:-//http://statistik.d-u-v.org//PHP ultracalendar//EN
VERSION:2.0
METHOD:PUBLISH
BEGIN:VEVENT
DTSTAMP:20260424T155316
CREATED:20241209T015106
UID:1777045996.0.76665200-113512@statistik.d-u-v.org
SUMMARY:Jackson County 50-50 Ultramarathon - 50 Km
DESCRIPTION: Jackson County 50-50 Ultramarathon - 50 Km\n
  \n
  
DTSTART:20241207T080000
DTEND:00000000T235900
LOCATION:Brownstown, IN\, USA
URL:http://www.dinoseries.com/ultra-marathon-trail-run/
CATEGORIES:Ultramarathon
CONTACT:
CLASS:PUBLIC
PRIORITY:5
TRANSP:OPAQUE
END:VEVENT
END:VCALENDAR
