BEGIN:VCALENDAR
PRODID:-//http://statistik.d-u-v.org//PHP ultracalendar//EN
VERSION:2.0
METHOD:PUBLISH
BEGIN:VEVENT
DTSTAMP:20260423T011532
CREATED:20241208T175411
UID:1776906932.0.22402900-113482@statistik.d-u-v.org
SUMMARY:Frozen Gnome 50K
DESCRIPTION: Frozen Gnome 50K\n
  Race Director Michele Hartwig\n
  dirtrunner100[at]yahoo.com
DTSTART:20250111T074500
DTEND:00000000T235900
LOCATION:Crystal Lake, IL\, USA
URL:http://www.runfrozengnome.com/
CATEGORIES:Ultramarathon
CONTACT:Race Director Michele Hartwig
CLASS:PUBLIC
PRIORITY:5
TRANSP:OPAQUE
END:VEVENT
END:VCALENDAR
