BEGIN:VCALENDAR
PRODID:-//http://statistik.d-u-v.org//PHP ultracalendar//EN
VERSION:2.0
METHOD:PUBLISH
BEGIN:VEVENT
DTSTAMP:20260420T035146
CREATED:20241208T164125
UID:1776657106.0.54455000-113471@statistik.d-u-v.org
SUMMARY:Death By a Mile
DESCRIPTION: Death By a Mile\n
  \n
  
DTSTART:20251011T000000
DTEND:00000000T235900
LOCATION:Palmer, AK\, USA
URL:https://runsignup.com/Race/AK/Palmer/deathbyamile
CATEGORIES:Ultramarathon
CONTACT:
CLASS:PUBLIC
PRIORITY:5
TRANSP:OPAQUE
END:VEVENT
END:VCALENDAR
