BEGIN:VCALENDAR
PRODID:-//http://statistik.d-u-v.org//PHP ultracalendar//EN
VERSION:2.0
METHOD:PUBLISH
BEGIN:VEVENT
DTSTAMP:20260424T200029
CREATED:20241205T124219
UID:1777060829.0.59663900-113327@statistik.d-u-v.org
SUMMARY:Wolf Creek Canyon Relay 28 Mile Race
DESCRIPTION: Wolf Creek Canyon Relay 28 Mile Race\n
  Ann Whittlesey\n
  info[at]racemt.com
DTSTART:20241006T000000
DTEND:00000000T235900
LOCATION:Wolf Creek, MT\, USA
URL:http://www.wolfcreekcanyonrelay.net/
CATEGORIES:Ultramarathon
CONTACT:Ann Whittlesey
CLASS:PUBLIC
PRIORITY:5
TRANSP:OPAQUE
END:VEVENT
END:VCALENDAR
