BEGIN:VCALENDAR
PRODID:-//http://statistik.d-u-v.org//PHP ultracalendar//EN
VERSION:2.0
METHOD:PUBLISH
BEGIN:VEVENT
DTSTAMP:20260419T195329
CREATED:20241205T062134
UID:1776628409.0.31018200-113313@statistik.d-u-v.org
SUMMARY:Swamp Fox Ultra 50km
DESCRIPTION: Swamp Fox Ultra 50km\n
  \n
  eagle.endurance[at]gmail.com
DTSTART:20250322T060000
DTEND:00000000T235900
LOCATION:McClellanville, SC\, USA
URL:http://www.eagle-endurance.com/home.html
CATEGORIES:Ultramarathon
CONTACT:
CLASS:PUBLIC
PRIORITY:5
TRANSP:OPAQUE
END:VEVENT
END:VCALENDAR
