BEGIN:VCALENDAR
PRODID:-//http://statistik.d-u-v.org//PHP ultracalendar//EN
VERSION:2.0
METHOD:PUBLISH
BEGIN:VEVENT
DTSTAMP:20260420T044135
CREATED:20241205T062039
UID:1776660095.0.20452300-113311@statistik.d-u-v.org
SUMMARY:Swamp Fox Ultra 105mi
DESCRIPTION: Swamp Fox Ultra 105mi\n
  \n
  eagle.endurance[at]gmail.com
DTSTART:20250322T060000
DTEND:20250323T150000
LOCATION:McClellanville, SC\, USA
URL:http://www.eagle-endurance.com/home.html
CATEGORIES:Ultramarathon
CONTACT:
CLASS:PUBLIC
PRIORITY:5
TRANSP:OPAQUE
END:VEVENT
END:VCALENDAR
