BEGIN:VCALENDAR
PRODID:-//http://statistik.d-u-v.org//PHP ultracalendar//EN
VERSION:2.0
METHOD:PUBLISH
BEGIN:VEVENT
DTSTAMP:20260420T060803
CREATED:20241204T164235
UID:1776665283.0.90343600-113285@statistik.d-u-v.org
SUMMARY:Saddles 100
DESCRIPTION: Saddles 100\n
  \n
  mwarrenv[at]gmail.com
DTSTART:20241005T060000
DTEND:20241006T235900
LOCATION:Prescott, AZ\, USA
URL:https://www.facebook.com/profile.php?id=100089460325376
CATEGORIES:Ultramarathon
CONTACT:
CLASS:PUBLIC
PRIORITY:5
TRANSP:OPAQUE
END:VEVENT
END:VCALENDAR
