BEGIN:VCALENDAR
PRODID:-//http://statistik.d-u-v.org//PHP ultracalendar//EN
VERSION:2.0
METHOD:PUBLISH
BEGIN:VEVENT
DTSTAMP:20260419T164354
CREATED:20241204T134718
UID:1776617034.0.44521100-113271@statistik.d-u-v.org
SUMMARY:Allison Woods Halloween Hobble 100 Mile Endurance Run
DESCRIPTION: Allison Woods Halloween Hobble 100 Mile Endurance Run\n
  \n
  djcoombes237[at]gmail.com
DTSTART:20241005T080000
DTEND:20241006T235900
LOCATION:Turnersburg, NC\, USA
URL:http://ultrasignup.com/register.aspx?did=61376
CATEGORIES:Ultramarathon
CONTACT:
CLASS:PUBLIC
PRIORITY:5
TRANSP:OPAQUE
END:VEVENT
END:VCALENDAR
