BEGIN:VCALENDAR
PRODID:-//http://statistik.d-u-v.org//PHP ultracalendar//EN
VERSION:2.0
METHOD:PUBLISH
BEGIN:VEVENT
DTSTAMP:20260423T023932
CREATED:20241204T122923
UID:1776911972.0.42148400-113239@statistik.d-u-v.org
SUMMARY:Noosa Ultra-Trail 100km
DESCRIPTION: Noosa Ultra-Trail 100km\n
  \n
  info[at]noosaultratrail.com.au
DTSTART:20250322T060000
DTEND:00000000T235900
LOCATION:Tewantin, QLD\, AUS
URL:https://www.noosaultratrail.com.au/
CATEGORIES:Ultramarathon
CONTACT:
CLASS:PUBLIC
PRIORITY:5
TRANSP:OPAQUE
END:VEVENT
END:VCALENDAR
