BEGIN:VCALENDAR
PRODID:-//http://statistik.d-u-v.org//PHP ultracalendar//EN
VERSION:2.0
METHOD:PUBLISH
BEGIN:VEVENT
DTSTAMP:20260423T065145
CREATED:20241202T203952
UID:1776927105.0.88305300-113216@statistik.d-u-v.org
SUMMARY:Swiss Irontrail T55
DESCRIPTION: Swiss Irontrail T55\n
  Livia Schröpfer\n
  info[at]irontrail.ch
DTSTART:20250628T040000
DTEND:00000000T235900
LOCATION:Savognin\, SUI
URL:https://www.irontrail.ch/
CATEGORIES:Ultramarathon
CONTACT:Livia Schröpfer
CLASS:PUBLIC
PRIORITY:5
TRANSP:OPAQUE
END:VEVENT
END:VCALENDAR
