BEGIN:VCALENDAR
PRODID:-//http://statistik.d-u-v.org//PHP ultracalendar//EN
VERSION:2.0
METHOD:PUBLISH
BEGIN:VEVENT
DTSTAMP:20260419T230704
CREATED:20241128T085808
UID:1776640024.0.86760500-113116@statistik.d-u-v.org
SUMMARY:Holly Springs Race Against the Sun
DESCRIPTION: Holly Springs Race Against the Sun\n
  \n
  
DTSTART:20250222T070000
DTEND:20250223T070000
LOCATION:Holly Springs, NC\, USA
URL:https://runsignup.com/Race/NC/HollySprings/HollySpringsRaceAgainsttheSun
CATEGORIES:Ultramarathon
CONTACT:
CLASS:PUBLIC
PRIORITY:5
TRANSP:OPAQUE
END:VEVENT
END:VCALENDAR
