BEGIN:VCALENDAR
PRODID:-//http://statistik.d-u-v.org//PHP ultracalendar//EN
VERSION:2.0
METHOD:PUBLISH
BEGIN:VEVENT
DTSTAMP:20260423T050547
CREATED:20241201T014537
UID:1776920747.0.81616300-113039@statistik.d-u-v.org
SUMMARY:The Ivy Trek 50 km Ultra
DESCRIPTION: The Ivy Trek 50 km Ultra\n
  \n
  gsr5k[at]yahoo.com
DTSTART:20240928T000000
DTEND:00000000T235900
LOCATION:Quitman, MS\, USA
URL:http://www.time2run.net/The-Ivy-Trek-Ultra.php
CATEGORIES:Ultramarathon
CONTACT:
CLASS:PUBLIC
PRIORITY:5
TRANSP:OPAQUE
END:VEVENT
END:VCALENDAR
