BEGIN:VCALENDAR
PRODID:-//http://statistik.d-u-v.org//PHP ultracalendar//EN
VERSION:2.0
METHOD:PUBLISH
BEGIN:VEVENT
DTSTAMP:20260423T015215
CREATED:20241130T180228
UID:1776909135.0.78655400-113037@statistik.d-u-v.org
SUMMARY:Hindsight Ultra Trail Runs 100 km
DESCRIPTION: Hindsight Ultra Trail Runs 100 km\n
  \n
  
DTSTART:20240928T000000
DTEND:00000000T235900
LOCATION:Dixon, IL\, USA
URL:https://ultrasignup.com/register.aspx?did=113741
CATEGORIES:Ultramarathon
CONTACT:
CLASS:PUBLIC
PRIORITY:5
TRANSP:OPAQUE
END:VEVENT
END:VCALENDAR
