BEGIN:VCALENDAR
PRODID:-//http://statistik.d-u-v.org//PHP ultracalendar//EN
VERSION:2.0
METHOD:PUBLISH
BEGIN:VEVENT
DTSTAMP:20260420T060805
CREATED:20241130T152125
UID:1776665285.0.45033100-113013@statistik.d-u-v.org
SUMMARY:Tulsa Urban 100 Mile Race
DESCRIPTION: Tulsa Urban 100 Mile Race\n
  \n
  runnersworldtulsa[at]yahoo.com
DTSTART:20240928T070000
DTEND:20240929T235900
LOCATION:Tulsa, OK\, USA
URL:https://www.urbanadventure.run/
CATEGORIES:Ultramarathon
CONTACT:
CLASS:PUBLIC
PRIORITY:5
TRANSP:OPAQUE
END:VEVENT
END:VCALENDAR
