BEGIN:VCALENDAR
PRODID:-//http://statistik.d-u-v.org//PHP ultracalendar//EN
VERSION:2.0
METHOD:PUBLISH
BEGIN:VEVENT
DTSTAMP:20260422T222537
CREATED:20070826T000000
UID:1776896737.0.69013000-1130@statistik.d-u-v.org
SUMMARY:Tallinn Kadriorg Park 12h ultrarun
DESCRIPTION: Tallinn Kadriorg Park 12h ultrarun\n
  \n
  
DTSTART:20070727T000000
DTEND:20070728T235900
LOCATION:Tallinn\, EST
URL:
CATEGORIES:Ultramarathon
CONTACT:
CLASS:PUBLIC
PRIORITY:5
TRANSP:OPAQUE
END:VEVENT
END:VCALENDAR
