BEGIN:VCALENDAR
PRODID:-//http://statistik.d-u-v.org//PHP ultracalendar//EN
VERSION:2.0
METHOD:PUBLISH
BEGIN:VEVENT
DTSTAMP:20260424T172644
CREATED:20241129T095050
UID:1777051604.0.03262000-112955@statistik.d-u-v.org
SUMMARY:Sherando Park Endurance Athletic Run 8 Hour Challenge
DESCRIPTION: Sherando Park Endurance Athletic Run 8 Hour Challenge\n
  \n
  
DTSTART:20240921T070000
DTEND:00000000T235900
LOCATION:Stephens City, VA\, USA
URL:https://runsignup.com/Race/VA/StephensCity/SherandoParkEnduranceAthleticRun8HourChallenge
CATEGORIES:Ultramarathon
CONTACT:
CLASS:PUBLIC
PRIORITY:5
TRANSP:OPAQUE
END:VEVENT
END:VCALENDAR
