BEGIN:VCALENDAR
PRODID:-//http://statistik.d-u-v.org//PHP ultracalendar//EN
VERSION:2.0
METHOD:PUBLISH
BEGIN:VEVENT
DTSTAMP:20260423T020441
CREATED:20241128T103507
UID:1776909881.0.43796500-112912@statistik.d-u-v.org
SUMMARY:Ultrapalooza 50mi
DESCRIPTION: Ultrapalooza 50mi\n
  \n
  
DTSTART:20240921T060000
DTEND:00000000T235900
LOCATION:Osawatomie, KS\, USA
URL:https://www.facebook.com/midwestenduranceraceco
CATEGORIES:Ultramarathon
CONTACT:
CLASS:PUBLIC
PRIORITY:5
TRANSP:OPAQUE
END:VEVENT
END:VCALENDAR
