BEGIN:VCALENDAR
PRODID:-//http://statistik.d-u-v.org//PHP ultracalendar//EN
VERSION:2.0
METHOD:PUBLISH
BEGIN:VEVENT
DTSTAMP:20260424T155315
CREATED:20241128T101943
UID:1777045995.0.58280900-112909@statistik.d-u-v.org
SUMMARY:Snow Mountain Ranch 50 km Trail Race
DESCRIPTION: Snow Mountain Ranch 50 km Trail Race\n
  \n
  info[at]enduranceraceseries.com
DTSTART:20250913T000000
DTEND:00000000T235900
LOCATION:Granby, CO\, USA
URL:https://www.enduranceraceseries.com/snow-mtn-ranch
CATEGORIES:Ultramarathon
CONTACT:
CLASS:PUBLIC
PRIORITY:5
TRANSP:OPAQUE
END:VEVENT
END:VCALENDAR
