BEGIN:VCALENDAR
PRODID:-//http://statistik.d-u-v.org//PHP ultracalendar//EN
VERSION:2.0
METHOD:PUBLISH
BEGIN:VEVENT
DTSTAMP:20260419T230707
CREATED:20241128T021526
UID:1776640027.0.96373000-112887@statistik.d-u-v.org
SUMMARY:Flagstaff to Grand Canyon Stagecoach Line 100mi
DESCRIPTION: Flagstaff to Grand Canyon Stagecoach Line 100mi\n
  Ian Torrence\n
  itgoes[at]aol.com
DTSTART:20250920T070000
DTEND:20250921T140000
LOCATION:Flagstaff, AZ\, USA
URL:https://runazt.org/flagstaff-to-grand-canyon-stagecoach-line-100/
CATEGORIES:Ultramarathon
CONTACT:Ian Torrence
CLASS:PUBLIC
PRIORITY:5
TRANSP:OPAQUE
END:VEVENT
END:VCALENDAR
