BEGIN:VCALENDAR
PRODID:-//http://statistik.d-u-v.org//PHP ultracalendar//EN
VERSION:2.0
METHOD:PUBLISH
BEGIN:VEVENT
DTSTAMP:20260424T175928
CREATED:20241128T011304
UID:1777053568.0.74230000-112883@statistik.d-u-v.org
SUMMARY:Sleigh Me 24 Hour Ultra
DESCRIPTION: Sleigh Me 24 Hour Ultra\n
  \n
  mdoody321[at]gmail.com
DTSTART:20250920T000000
DTEND:20250921T235900
LOCATION:Shortsville, NY\, USA
URL:https://runsignup.com/Race/NY/Shortsville/SleighMe48HourUltra
CATEGORIES:Ultramarathon
CONTACT:
CLASS:PUBLIC
PRIORITY:5
TRANSP:OPAQUE
END:VEVENT
END:VCALENDAR
