BEGIN:VCALENDAR
PRODID:-//http://statistik.d-u-v.org//PHP ultracalendar//EN
VERSION:2.0
METHOD:PUBLISH
BEGIN:VEVENT
DTSTAMP:20260424T200015
CREATED:20241128T011048
UID:1777060815.0.02912100-112881@statistik.d-u-v.org
SUMMARY:Sleigh Me 48 Hour Ultra
DESCRIPTION: Sleigh Me 48 Hour Ultra\n
  \n
  mdoody321[at]gmail.com
DTSTART:20240920T000000
DTEND:20240922T235900
LOCATION:Shortsville, NY\, USA
URL:https://runsignup.com/Race/NY/Shortsville/SleighMe48HourUltra
CATEGORIES:Ultramarathon
CONTACT:
CLASS:PUBLIC
PRIORITY:5
TRANSP:OPAQUE
END:VEVENT
END:VCALENDAR
