BEGIN:VCALENDAR
PRODID:-//http://statistik.d-u-v.org//PHP ultracalendar//EN
VERSION:2.0
METHOD:PUBLISH
BEGIN:VEVENT
DTSTAMP:20260425T180035
CREATED:20241127T151340
UID:1777140035.0.54771200-112872@statistik.d-u-v.org
SUMMARY:24h Serres Circuit run
DESCRIPTION: 24h Serres Circuit run\n
  \n
  support[at]serrescircuitrun.gr
DTSTART:20250322T080000
DTEND:20250323T080000
LOCATION:Serres\, GRE
URL:https://serrescircuitrun.gr/en/
CATEGORIES:Ultramarathon
CONTACT:
CLASS:PUBLIC
PRIORITY:5
TRANSP:OPAQUE
END:VEVENT
END:VCALENDAR
