BEGIN:VCALENDAR
PRODID:-//http://statistik.d-u-v.org//PHP ultracalendar//EN
VERSION:2.0
METHOD:PUBLISH
BEGIN:VEVENT
DTSTAMP:20260419T220850
CREATED:20241126T111738
UID:1776636530.0.91972800-112794@statistik.d-u-v.org
SUMMARY:Timely Nonsense - 12h
DESCRIPTION: Timely Nonsense - 12h\n
  \n
  ally[at]cussingrunner.com
DTSTART:20240915T070000
DTEND:00000000T235900
LOCATION:Chicago, IL\, USA
URL:https://cussingrunner.com/event/timed-ultra-chicago/
CATEGORIES:Ultramarathon
CONTACT:
CLASS:PUBLIC
PRIORITY:5
TRANSP:OPAQUE
END:VEVENT
END:VCALENDAR
