BEGIN:VCALENDAR
PRODID:-//http://statistik.d-u-v.org//PHP ultracalendar//EN
VERSION:2.0
METHOD:PUBLISH
BEGIN:VEVENT
DTSTAMP:20260424T211712
CREATED:20241125T135409
UID:1777065432.0.75404800-112776@statistik.d-u-v.org
SUMMARY:Winter Run to the Castle Ultra
DESCRIPTION: Winter Run to the Castle Ultra\n
  \n
  running[at]codrc.co.uk
DTSTART:20250111T084500
DTEND:00000000T235900
LOCATION:Aberdyfi\, GBR
URL:https://www.codrc.co.uk/e/the-winter-run-to-the-castle-ultra-12071
CATEGORIES:Ultramarathon
CONTACT:
CLASS:PUBLIC
PRIORITY:5
TRANSP:OPAQUE
END:VEVENT
END:VCALENDAR
