BEGIN:VCALENDAR
PRODID:-//http://statistik.d-u-v.org//PHP ultracalendar//EN
VERSION:2.0
METHOD:PUBLISH
BEGIN:VEVENT
DTSTAMP:20260419T185847
CREATED:20241123T092923
UID:1776625127.0.41298900-112627@statistik.d-u-v.org
SUMMARY:Joe's 11 Hour Night Run At The Hamptons
DESCRIPTION: Joe's 11 Hour Night Run At The Hamptons\n
  \n
  
DTSTART:20240907T000000
DTEND:00000000T235900
LOCATION:Hampton, VA\, USA
URL:https://ultrasignup.com/register.aspx?did=113036
CATEGORIES:Ultramarathon
CONTACT:
CLASS:PUBLIC
PRIORITY:5
TRANSP:OPAQUE
END:VEVENT
END:VCALENDAR
