BEGIN:VCALENDAR
PRODID:-//http://statistik.d-u-v.org//PHP ultracalendar//EN
VERSION:2.0
METHOD:PUBLISH
BEGIN:VEVENT
DTSTAMP:20260422T221344
CREATED:20241122T181035
UID:1776896024.0.03410600-112607@statistik.d-u-v.org
SUMMARY:Run Woodstock - 100 Mile Hallucination Run
DESCRIPTION: Run Woodstock - 100 Mile Hallucination Run\n
  Dawn McConnachie\n
  info[at]rfevents.com
DTSTART:20250905T160000
DTEND:20250906T220000
LOCATION:Pinckney, MI\, USA
URL:http://www.runwoodstock.com/
CATEGORIES:Ultramarathon
CONTACT:Dawn McConnachie
CLASS:PUBLIC
PRIORITY:5
TRANSP:OPAQUE
END:VEVENT
END:VCALENDAR
