BEGIN:VCALENDAR
PRODID:-//http://statistik.d-u-v.org//PHP ultracalendar//EN
VERSION:2.0
METHOD:PUBLISH
BEGIN:VEVENT
DTSTAMP:20260419T185835
CREATED:20241119T084930
UID:1776625115.0.39011300-112509@statistik.d-u-v.org
SUMMARY:Les 24 heures de Royan - course
DESCRIPTION: Les 24 heures de Royan - course\n
  Daniel Fritzsch\n
  12.24.48heuresderoyan[at]gmail.com
DTSTART:20251018T100000
DTEND:20251019T100000
LOCATION:Royan\, FRA
URL:http://www.48hderoyan.fr/
CATEGORIES:Ultramarathon
CONTACT:Daniel Fritzsch
CLASS:PUBLIC
PRIORITY:5
TRANSP:OPAQUE
END:VEVENT
END:VCALENDAR
