BEGIN:VCALENDAR
PRODID:-//http://statistik.d-u-v.org//PHP ultracalendar//EN
VERSION:2.0
METHOD:PUBLISH
BEGIN:VEVENT
DTSTAMP:20260420T060813
CREATED:20241119T173901
UID:1776665293.0.22170500-112504@statistik.d-u-v.org
SUMMARY:The Blood Run at The Good Earth Farm 24 Hour
DESCRIPTION: The Blood Run at The Good Earth Farm 24 Hour\n
  \n
  nancymeendering[at]gmail.com
DTSTART:20240831T000000
DTEND:20240901T235900
LOCATION:Lennox, SD\, USA
URL:https://www.facebook.com/Thebloodrun/
CATEGORIES:Ultramarathon
CONTACT:
CLASS:PUBLIC
PRIORITY:5
TRANSP:OPAQUE
END:VEVENT
END:VCALENDAR
