BEGIN:VCALENDAR
PRODID:-//http://statistik.d-u-v.org//PHP ultracalendar//EN
VERSION:2.0
METHOD:PUBLISH
BEGIN:VEVENT
DTSTAMP:20260419T182110
CREATED:20241118T133720
UID:1776622870.0.46870000-112409@statistik.d-u-v.org
SUMMARY:Dirty Dozen 50k Trail Run
DESCRIPTION: Dirty Dozen 50k Trail Run\n
  \n
  
DTSTART:20240824T080000
DTEND:00000000T235900
LOCATION:New York, NY\, USA
URL:https://ultrasignup.com/register.aspx?did=115204
CATEGORIES:Ultramarathon
CONTACT:
CLASS:PUBLIC
PRIORITY:5
TRANSP:OPAQUE
END:VEVENT
END:VCALENDAR
