BEGIN:VCALENDAR
PRODID:-//http://statistik.d-u-v.org//PHP ultracalendar//EN
VERSION:2.0
METHOD:PUBLISH
BEGIN:VEVENT
DTSTAMP:20260423T020333
CREATED:20241118T094429
UID:1776909813.0.12871400-112388@statistik.d-u-v.org
SUMMARY:Night Crawler 12 Hour Endurance Challenge
DESCRIPTION: Night Crawler 12 Hour Endurance Challenge\n
  Justin Kinner\n
  coachkinnerjr[at]gmail.com
DTSTART:20240823T183000
DTEND:20240824T063000
LOCATION:Casper, WY\, USA
URL:https://nightcrawler12-hourec.weebly.com/
CATEGORIES:Ultramarathon
CONTACT:Justin Kinner
CLASS:PUBLIC
PRIORITY:5
TRANSP:OPAQUE
END:VEVENT
END:VCALENDAR
