BEGIN:VCALENDAR
PRODID:-//http://statistik.d-u-v.org//PHP ultracalendar//EN
VERSION:2.0
METHOD:PUBLISH
BEGIN:VEVENT
DTSTAMP:20260422T061826
CREATED:20241118T053508
UID:1776838706.0.34943500-112372@statistik.d-u-v.org
SUMMARY:Dig Deep Trail Ultra 30
DESCRIPTION: Dig Deep Trail Ultra 30\n
  \n
  
DTSTART:20250830T090000
DTEND:00000000T235900
LOCATION:Sheffield\, GBR
URL:https://www.digdeeprace.com
CATEGORIES:Ultramarathon
CONTACT:
CLASS:PUBLIC
PRIORITY:5
TRANSP:OPAQUE
END:VEVENT
END:VCALENDAR
