BEGIN:VCALENDAR
PRODID:-//http://statistik.d-u-v.org//PHP ultracalendar//EN
VERSION:2.0
METHOD:PUBLISH
BEGIN:VEVENT
DTSTAMP:20260423T053838
CREATED:20241118T051609
UID:1776922718.0.19363300-112368@statistik.d-u-v.org
SUMMARY:Ochil Ultra 100mi
DESCRIPTION: Ochil Ultra 100mi\n
  \n
  ben[at]weerunevents.co.uk
DTSTART:20250926T180000
DTEND:20250927T235900
LOCATION:Sterling\, GBR
URL:http://www.ochilultra.run
CATEGORIES:Ultramarathon
CONTACT:
CLASS:PUBLIC
PRIORITY:5
TRANSP:OPAQUE
END:VEVENT
END:VCALENDAR
