BEGIN:VCALENDAR
PRODID:-//http://statistik.d-u-v.org//PHP ultracalendar//EN
VERSION:2.0
METHOD:PUBLISH
BEGIN:VEVENT
DTSTAMP:20260423T035833
CREATED:20241116T085027
UID:1776916713.0.97276500-112338@statistik.d-u-v.org
SUMMARY:Rise & Run
DESCRIPTION: Rise & Run\n
  \n
  riseruntrailrace[at]gmail.com
DTSTART:20250719T040000
DTEND:00000000T235900
LOCATION:Wellsboro, PA\, USA
URL:https://ultrasignup.com/register.aspx?did=123259
CATEGORIES:Ultramarathon
CONTACT:
CLASS:PUBLIC
PRIORITY:5
TRANSP:OPAQUE
END:VEVENT
END:VCALENDAR
