BEGIN:VCALENDAR
PRODID:-//http://statistik.d-u-v.org//PHP ultracalendar//EN
VERSION:2.0
METHOD:PUBLISH
BEGIN:VEVENT
DTSTAMP:20260422T211801
CREATED:20241115T202040
UID:1776892681.0.62064700-112322@statistik.d-u-v.org
SUMMARY:Ultramaraton non stop 24 horas Cancún
DESCRIPTION: Ultramaraton non stop 24 horas Cancún\n
  Eddy Nogales\n
  ultraeddy[at]yahoo.com
DTSTART:20250125T120000
DTEND:20250126T120000
LOCATION:Cancun\, MEX
URL:https://www.facebook.com/profile.php?id=100063597941280
CATEGORIES:Ultramarathon
CONTACT:Eddy Nogales
CLASS:PUBLIC
PRIORITY:5
TRANSP:OPAQUE
END:VEVENT
END:VCALENDAR
