BEGIN:VCALENDAR
PRODID:-//http://statistik.d-u-v.org//PHP ultracalendar//EN
VERSION:2.0
METHOD:PUBLISH
BEGIN:VEVENT
DTSTAMP:20260420T075403
CREATED:20241115T201645
UID:1776671643.0.85819500-112320@statistik.d-u-v.org
SUMMARY:Kardingebultra
DESCRIPTION: Kardingebultra\n
  Nico Swart\n
  nico[at]leukeloopjes.nl
DTSTART:20250719T140000
DTEND:20250720T140000
LOCATION:Groningen\, NED
URL:https://www.steenboksport.nl/product/kardingebultra-achtertoenultra-grunn/
CATEGORIES:Ultramarathon
CONTACT:Nico Swart
CLASS:PUBLIC
PRIORITY:5
TRANSP:OPAQUE
END:VEVENT
END:VCALENDAR
