BEGIN:VCALENDAR
PRODID:-//http://statistik.d-u-v.org//PHP ultracalendar//EN
VERSION:2.0
METHOD:PUBLISH
BEGIN:VEVENT
DTSTAMP:20260420T012855
CREATED:20241115T155011
UID:1776648535.0.87692700-112274@statistik.d-u-v.org
SUMMARY:Wild Turkey 50 km Fun Run
DESCRIPTION: Wild Turkey 50 km Fun Run\n
  \n
  
DTSTART:20240817T080000
DTEND:00000000T235900
LOCATION:Fairmont, WV\, USA
URL:https://runsignup.com/Race/Info/WV/Fairmont/ValleyFallsFunRun
CATEGORIES:Ultramarathon
CONTACT:
CLASS:PUBLIC
PRIORITY:5
TRANSP:OPAQUE
END:VEVENT
END:VCALENDAR
