BEGIN:VCALENDAR
PRODID:-//http://statistik.d-u-v.org//PHP ultracalendar//EN
VERSION:2.0
METHOD:PUBLISH
BEGIN:VEVENT
DTSTAMP:20260419T211039
CREATED:20241114T112832
UID:1776633039.0.35208200-112214@statistik.d-u-v.org
SUMMARY:Eddy Trail Races
DESCRIPTION: Eddy Trail Races\n
  \n
  mike[at]running-tangents.com
DTSTART:20240810T000000
DTEND:00000000T235900
LOCATION:Annandale, MN\, USA
URL:https://running-tangents.com/eddytrailraces/
CATEGORIES:Ultramarathon
CONTACT:
CLASS:PUBLIC
PRIORITY:5
TRANSP:OPAQUE
END:VEVENT
END:VCALENDAR
